BEGIN:VCALENDAR
VERSION:2.0
PRODID:-//Queen&#039;s Marque - ECPv6.8.3//NONSGML v1.0//EN
CALSCALE:GREGORIAN
METHOD:PUBLISH
X-WR-CALNAME:Queen&#039;s Marque
X-ORIGINAL-URL:https://queensmarque.com
X-WR-CALDESC:Events for Queen&#039;s Marque
REFRESH-INTERVAL;VALUE=DURATION:PT1H
X-Robots-Tag:noindex
X-PUBLISHED-TTL:PT1H
BEGIN:VTIMEZONE
TZID:UTC
BEGIN:STANDARD
TZOFFSETFROM:+0000
TZOFFSETTO:+0000
TZNAME:UTC
DTSTART:20250101T000000
END:STANDARD
END:VTIMEZONE
BEGIN:VEVENT
DTSTART;TZID=UTC:20260418T120000
DTEND;TZID=UTC:20260418T140000
DTSTAMP:20260424T203212
CREATED:20260401T134127Z
LAST-MODIFIED:20260401T134947Z
UID:10002371-1776513600-1776520800@queensmarque.com
SUMMARY:8th Annual Special Olympics Polar Plunge
DESCRIPTION:Get ready— the 8th Annual Halifax Polar Plunge for Special Olympics Nova Scotia is set to take place on Saturday\, April 18\, 2026! \nKick things off with Opening Ceremonies at Grand Parade Square\, where you’ll join NSLETR members\, Special Olympics athletes\, and cheering crowds. From there\, join the Torch Run to the Halifax waterfront at The Queen’s Marque on Lower Water Street. Finally\, watch as our brave plungers take a chilly dip in the Halifax Harbour—all to support an incredible cause! \nAre you Brrrave enough to take the plunge? Register today and support the incredible athletes or donate to one of our courageous plungers!
URL:https://queensmarque.com/event/8th-annual-special-olympics-polar-plunge/
LOCATION:Queen’s Marque Courtyard
END:VEVENT
BEGIN:VEVENT
DTSTART;VALUE=DATE:20251121
DTEND;VALUE=DATE:20251215
DTSTAMP:20260424T203212
CREATED:20251112T140850Z
LAST-MODIFIED:20251112T140944Z
UID:10002370-1763683200-1765756799@queensmarque.com
SUMMARY:Luminous Cloud
DESCRIPTION:Step inside a luminous wonderland with Luminous Cloud\, an immersive art installation by Passage Studio. Wander through glowing rods that shimmer with ever-changing light\, transforming the courtyard into a radiant landscape. By day it is a sculptural landmark; by night it comes alive with color and motion\, creating a magical experience for visitors of all ages.
URL:https://queensmarque.com/event/luminous-cloud/
LOCATION:Queen’s Marque Courtyard
ATTACH;FMTTYPE=image/jpeg:https://queensmarque.com/app/uploads/2025/11/images.jpg
END:VEVENT
BEGIN:VEVENT
DTSTART;TZID=UTC:20251026T190000
DTEND;TZID=UTC:20251026T220000
DTSTAMP:20260424T203212
CREATED:20251008T194253Z
LAST-MODIFIED:20251008T194253Z
UID:10002368-1761505200-1761516000@queensmarque.com
SUMMARY:Light the Night
DESCRIPTION:At Light The Night\, the blood cancer community comes together to show those affected by a blood cancer that they are not alone. It’s a time to celebrate our donors\, supporters\, volunteers\, and loved ones lost.
URL:https://queensmarque.com/event/light-the-night/
LOCATION:Queen’s Marque Courtyard
END:VEVENT
BEGIN:VEVENT
DTSTART;TZID=UTC:20251025T120000
DTEND;TZID=UTC:20251025T170000
DTSTAMP:20260424T203212
CREATED:20251003T143847Z
LAST-MODIFIED:20251003T143847Z
UID:10002367-1761393600-1761411600@queensmarque.com
SUMMARY:Safe Halloween
DESCRIPTION:Enjoy sweet treats and spooky fun for the entire family at Queen’s Marque. Grab a pumpkin in exchange for a donation to Feed Nova Scotia (non-perishable food items and cash accepted) while taking part in fun activities for the whole family.
URL:https://queensmarque.com/event/safe-halloween/
LOCATION:Queen’s Marque Courtyard
END:VEVENT
BEGIN:VEVENT
DTSTART;TZID=UTC:20251018T180000
DTEND;TZID=UTC:20251018T235900
DTSTAMP:20260424T203212
CREATED:20251008T194428Z
LAST-MODIFIED:20251008T194428Z
UID:10002369-1760810400-1760831940@queensmarque.com
SUMMARY:Nocturne: Art at Night
DESCRIPTION:cast away & caught ashore by Daniel Humboldt is a transformative\, luminescent textile installation of a traditional fishing net. This work illuminates the process of seeking out what is lost\, of blindly looking for answers\, and of finding what we seek in the shallows we already wade.
URL:https://queensmarque.com/event/nocturne-art-at-night/
LOCATION:Queen’s Marque Courtyard
END:VEVENT
BEGIN:VEVENT
DTSTART;TZID=UTC:20250201T120000
DTEND;TZID=UTC:20250201T130000
DTSTAMP:20260424T203212
CREATED:20250130T144300Z
LAST-MODIFIED:20250130T144300Z
UID:10000455-1738411200-1738414800@queensmarque.com
SUMMARY:Lunar New Year
DESCRIPTION:On Saturday\, February 1st\, enjoy a Dragon Dance performance in the Queen’s Marque Courtyard at 12 PM. The performance will last approximately 15 minutes. \n  \nAfterward\, stop by the ToriDori patio for free calligraphy\, where you can have your name written in Chinese characters. This will be available until 1 PM.
URL:https://queensmarque.com/event/lunar-new-year/
LOCATION:Queen’s Marque Courtyard
END:VEVENT
END:VCALENDAR